BEGIN:VCALENDAR
VERSION:2.0
PRODID:-//UKTS Boureki - ECPv6.15.20//NONSGML v1.0//EN
CALSCALE:GREGORIAN
METHOD:PUBLISH
X-ORIGINAL-URL:https://boureki.com
X-WR-CALDESC:Events for UKTS Boureki
REFRESH-INTERVAL;VALUE=DURATION:PT1H
X-Robots-Tag:noindex
X-PUBLISHED-TTL:PT1H
BEGIN:VTIMEZONE
TZID:Europe/London
BEGIN:DAYLIGHT
TZOFFSETFROM:+0000
TZOFFSETTO:+0100
TZNAME:BST
DTSTART:20250330T010000
END:DAYLIGHT
BEGIN:STANDARD
TZOFFSETFROM:+0100
TZOFFSETTO:+0000
TZNAME:GMT
DTSTART:20251026T010000
END:STANDARD
BEGIN:DAYLIGHT
TZOFFSETFROM:+0000
TZOFFSETTO:+0100
TZNAME:BST
DTSTART:20260329T010000
END:DAYLIGHT
BEGIN:STANDARD
TZOFFSETFROM:+0100
TZOFFSETTO:+0000
TZNAME:GMT
DTSTART:20261025T010000
END:STANDARD
BEGIN:DAYLIGHT
TZOFFSETFROM:+0000
TZOFFSETTO:+0100
TZNAME:BST
DTSTART:20270328T010000
END:DAYLIGHT
BEGIN:STANDARD
TZOFFSETFROM:+0100
TZOFFSETTO:+0000
TZNAME:GMT
DTSTART:20271031T010000
END:STANDARD
END:VTIMEZONE
BEGIN:VEVENT
DTSTART;TZID=Europe/London:20260702T183000
DTEND;TZID=Europe/London:20260702T193000
DTSTAMP:20260419T144058
CREATED:20260121T145436Z
LAST-MODIFIED:20260127T112408Z
UID:10000028-1783017000-1783020600@boureki.com
SUMMARY:Fitness Session with Claire Campbell
DESCRIPTION:This class runs every Thursday
URL:https://boureki.com/event/fitness-session-with-claire-campbell/2026-07-02/
LOCATION:UKTS Hybrid Event\, UKTS Office\, N14 6PH\, United Kingdom
ORGANIZER;CN="UK Thalassaemia Society":MAILTO:office@ukts.org
END:VEVENT
BEGIN:VEVENT
DTSTART;VALUE=DATE:20260704
DTEND;VALUE=DATE:20260705
DTSTAMP:20260419T144058
CREATED:20260309T095932Z
LAST-MODIFIED:20260309T095932Z
UID:10000284-1783123200-1783209599@boureki.com
SUMMARY:UKTS 50th Anniversary Celebration
DESCRIPTION:UKTS 50th Anniversary Celebration \n Brewery\, 52 Chiswell St\, Shoreditch\, London\, EC1Y 4SA
URL:https://boureki.com/event/ukts-50th-anniversary-celebration/
ORGANIZER;CN="UK Thalassaemia Society":MAILTO:office@ukts.org
END:VEVENT
BEGIN:VEVENT
DTSTART;TZID=Europe/London:20260709T183000
DTEND;TZID=Europe/London:20260709T193000
DTSTAMP:20260419T144058
CREATED:20260121T145436Z
LAST-MODIFIED:20260127T112408Z
UID:10000029-1783621800-1783625400@boureki.com
SUMMARY:Fitness Session with Claire Campbell
DESCRIPTION:This class runs every Thursday
URL:https://boureki.com/event/fitness-session-with-claire-campbell/2026-07-09/
LOCATION:UKTS Hybrid Event\, UKTS Office\, N14 6PH\, United Kingdom
ORGANIZER;CN="UK Thalassaemia Society":MAILTO:office@ukts.org
END:VEVENT
BEGIN:VEVENT
DTSTART;TZID=Europe/London:20260716T183000
DTEND;TZID=Europe/London:20260716T193000
DTSTAMP:20260419T144058
CREATED:20260121T145436Z
LAST-MODIFIED:20260127T112408Z
UID:10000030-1784226600-1784230200@boureki.com
SUMMARY:Fitness Session with Claire Campbell
DESCRIPTION:This class runs every Thursday
URL:https://boureki.com/event/fitness-session-with-claire-campbell/2026-07-16/
LOCATION:UKTS Hybrid Event\, UKTS Office\, N14 6PH\, United Kingdom
ORGANIZER;CN="UK Thalassaemia Society":MAILTO:office@ukts.org
END:VEVENT
BEGIN:VEVENT
DTSTART;TZID=Europe/London:20260716T190000
DTEND;TZID=Europe/London:20260716T200000
DTSTAMP:20260419T144058
CREATED:20260127T122124Z
LAST-MODIFIED:20260127T122124Z
UID:10000274-1784228400-1784232000@boureki.com
SUMMARY:LGR "Talking thalassaemia"
DESCRIPTION:Join us on 103.3 FM\, talking all thing thalassaemia.
URL:https://boureki.com/event/lgr-talking-thalassaemia-6/
ORGANIZER;CN="UK Thalassaemia Society":MAILTO:office@ukts.org
END:VEVENT
BEGIN:VEVENT
DTSTART;TZID=Europe/London:20260723T183000
DTEND;TZID=Europe/London:20260723T193000
DTSTAMP:20260419T144058
CREATED:20260121T145436Z
LAST-MODIFIED:20260127T112408Z
UID:10000031-1784831400-1784835000@boureki.com
SUMMARY:Fitness Session with Claire Campbell
DESCRIPTION:This class runs every Thursday
URL:https://boureki.com/event/fitness-session-with-claire-campbell/2026-07-23/
LOCATION:UKTS Hybrid Event\, UKTS Office\, N14 6PH\, United Kingdom
ORGANIZER;CN="UK Thalassaemia Society":MAILTO:office@ukts.org
END:VEVENT
BEGIN:VEVENT
DTSTART;TZID=Europe/London:20260730T183000
DTEND;TZID=Europe/London:20260730T193000
DTSTAMP:20260419T144058
CREATED:20260121T145436Z
LAST-MODIFIED:20260127T112408Z
UID:10000032-1785436200-1785439800@boureki.com
SUMMARY:Fitness Session with Claire Campbell
DESCRIPTION:This class runs every Thursday
URL:https://boureki.com/event/fitness-session-with-claire-campbell/2026-07-30/
LOCATION:UKTS Hybrid Event\, UKTS Office\, N14 6PH\, United Kingdom
ORGANIZER;CN="UK Thalassaemia Society":MAILTO:office@ukts.org
END:VEVENT
END:VCALENDAR