BEGIN:VCALENDAR
VERSION:2.0
PRODID:-//UKTS Boureki - ECPv6.15.20//NONSGML v1.0//EN
CALSCALE:GREGORIAN
METHOD:PUBLISH
X-WR-CALNAME:UKTS Boureki
X-ORIGINAL-URL:https://boureki.com
X-WR-CALDESC:Events for UKTS Boureki
REFRESH-INTERVAL;VALUE=DURATION:PT1H
X-Robots-Tag:noindex
X-PUBLISHED-TTL:PT1H
BEGIN:VTIMEZONE
TZID:Europe/London
BEGIN:DAYLIGHT
TZOFFSETFROM:+0000
TZOFFSETTO:+0100
TZNAME:BST
DTSTART:20250330T010000
END:DAYLIGHT
BEGIN:STANDARD
TZOFFSETFROM:+0100
TZOFFSETTO:+0000
TZNAME:GMT
DTSTART:20251026T010000
END:STANDARD
BEGIN:DAYLIGHT
TZOFFSETFROM:+0000
TZOFFSETTO:+0100
TZNAME:BST
DTSTART:20260329T010000
END:DAYLIGHT
BEGIN:STANDARD
TZOFFSETFROM:+0100
TZOFFSETTO:+0000
TZNAME:GMT
DTSTART:20261025T010000
END:STANDARD
BEGIN:DAYLIGHT
TZOFFSETFROM:+0000
TZOFFSETTO:+0100
TZNAME:BST
DTSTART:20270328T010000
END:DAYLIGHT
BEGIN:STANDARD
TZOFFSETFROM:+0100
TZOFFSETTO:+0000
TZNAME:GMT
DTSTART:20271031T010000
END:STANDARD
END:VTIMEZONE
BEGIN:VEVENT
DTSTART;TZID=Europe/London:20260903T183000
DTEND;TZID=Europe/London:20260903T193000
DTSTAMP:20260419T181034
CREATED:20260121T145436Z
LAST-MODIFIED:20260127T112408Z
UID:10000037-1788460200-1788463800@boureki.com
SUMMARY:Fitness Session with Claire Campbell
DESCRIPTION:This class runs every Thursday
URL:https://boureki.com/event/fitness-session-with-claire-campbell/2026-09-03/
LOCATION:UKTS Hybrid Event\, UKTS Office\, N14 6PH\, United Kingdom
ORGANIZER;CN="UK Thalassaemia Society":MAILTO:office@ukts.org
END:VEVENT
BEGIN:VEVENT
DTSTART;TZID=Europe/London:20260910T183000
DTEND;TZID=Europe/London:20260910T193000
DTSTAMP:20260419T181034
CREATED:20260121T145436Z
LAST-MODIFIED:20260127T112408Z
UID:10000038-1789065000-1789068600@boureki.com
SUMMARY:Fitness Session with Claire Campbell
DESCRIPTION:This class runs every Thursday
URL:https://boureki.com/event/fitness-session-with-claire-campbell/2026-09-10/
LOCATION:UKTS Hybrid Event\, UKTS Office\, N14 6PH\, United Kingdom
ORGANIZER;CN="UK Thalassaemia Society":MAILTO:office@ukts.org
END:VEVENT
BEGIN:VEVENT
DTSTART;TZID=Europe/London:20260917T183000
DTEND;TZID=Europe/London:20260917T193000
DTSTAMP:20260419T181034
CREATED:20260121T145436Z
LAST-MODIFIED:20260127T112408Z
UID:10000039-1789669800-1789673400@boureki.com
SUMMARY:Fitness Session with Claire Campbell
DESCRIPTION:This class runs every Thursday
URL:https://boureki.com/event/fitness-session-with-claire-campbell/2026-09-17/
LOCATION:UKTS Hybrid Event\, UKTS Office\, N14 6PH\, United Kingdom
ORGANIZER;CN="UK Thalassaemia Society":MAILTO:office@ukts.org
END:VEVENT
BEGIN:VEVENT
DTSTART;TZID=Europe/London:20260917T190000
DTEND;TZID=Europe/London:20260917T200000
DTSTAMP:20260419T181034
CREATED:20260127T122258Z
LAST-MODIFIED:20260127T122258Z
UID:10000276-1789671600-1789675200@boureki.com
SUMMARY:LGR "Talking thalassaemia"
DESCRIPTION:Join us on 103.3 FM\, talking all thing thalassaemia.
URL:https://boureki.com/event/lgr-talking-thalassaemia-8/
ORGANIZER;CN="UK Thalassaemia Society":MAILTO:office@ukts.org
END:VEVENT
BEGIN:VEVENT
DTSTART;TZID=Europe/London:20260924T183000
DTEND;TZID=Europe/London:20260924T193000
DTSTAMP:20260419T181034
CREATED:20260121T145436Z
LAST-MODIFIED:20260127T112408Z
UID:10000040-1790274600-1790278200@boureki.com
SUMMARY:Fitness Session with Claire Campbell
DESCRIPTION:This class runs every Thursday
URL:https://boureki.com/event/fitness-session-with-claire-campbell/2026-09-24/
LOCATION:UKTS Hybrid Event\, UKTS Office\, N14 6PH\, United Kingdom
ORGANIZER;CN="UK Thalassaemia Society":MAILTO:office@ukts.org
END:VEVENT
END:VCALENDAR