BEGIN:VCALENDAR
VERSION:2.0
PRODID:-//UKTS Boureki - ECPv6.15.20//NONSGML v1.0//EN
CALSCALE:GREGORIAN
METHOD:PUBLISH
X-WR-CALNAME:UKTS Boureki
X-ORIGINAL-URL:https://boureki.com
X-WR-CALDESC:Events for UKTS Boureki
REFRESH-INTERVAL;VALUE=DURATION:PT1H
X-Robots-Tag:noindex
X-PUBLISHED-TTL:PT1H
BEGIN:VTIMEZONE
TZID:Europe/London
BEGIN:DAYLIGHT
TZOFFSETFROM:+0000
TZOFFSETTO:+0100
TZNAME:BST
DTSTART:20260329T010000
END:DAYLIGHT
BEGIN:STANDARD
TZOFFSETFROM:+0100
TZOFFSETTO:+0000
TZNAME:GMT
DTSTART:20261025T010000
END:STANDARD
BEGIN:DAYLIGHT
TZOFFSETFROM:+0000
TZOFFSETTO:+0100
TZNAME:BST
DTSTART:20270328T010000
END:DAYLIGHT
BEGIN:STANDARD
TZOFFSETFROM:+0100
TZOFFSETTO:+0000
TZNAME:GMT
DTSTART:20271031T010000
END:STANDARD
BEGIN:DAYLIGHT
TZOFFSETFROM:+0000
TZOFFSETTO:+0100
TZNAME:BST
DTSTART:20280326T010000
END:DAYLIGHT
BEGIN:STANDARD
TZOFFSETFROM:+0100
TZOFFSETTO:+0000
TZNAME:GMT
DTSTART:20281029T010000
END:STANDARD
END:VTIMEZONE
BEGIN:VEVENT
DTSTART;TZID=Europe/London:20271007T183000
DTEND;TZID=Europe/London:20271007T193000
DTSTAMP:20260422T170548
CREATED:20260121T145436Z
LAST-MODIFIED:20260127T112408Z
UID:10000094-1822933800-1822937400@boureki.com
SUMMARY:Fitness Session with Claire Campbell
DESCRIPTION:This class runs every Thursday
URL:https://boureki.com/event/fitness-session-with-claire-campbell/2027-10-07/
LOCATION:UKTS Hybrid Event\, UKTS Office\, N14 6PH\, United Kingdom
ORGANIZER;CN="UK Thalassaemia Society":MAILTO:office@ukts.org
END:VEVENT
BEGIN:VEVENT
DTSTART;TZID=Europe/London:20271014T183000
DTEND;TZID=Europe/London:20271014T193000
DTSTAMP:20260422T170548
CREATED:20260121T145436Z
LAST-MODIFIED:20260127T112408Z
UID:10000095-1823538600-1823542200@boureki.com
SUMMARY:Fitness Session with Claire Campbell
DESCRIPTION:This class runs every Thursday
URL:https://boureki.com/event/fitness-session-with-claire-campbell/2027-10-14/
LOCATION:UKTS Hybrid Event\, UKTS Office\, N14 6PH\, United Kingdom
ORGANIZER;CN="UK Thalassaemia Society":MAILTO:office@ukts.org
END:VEVENT
BEGIN:VEVENT
DTSTART;TZID=Europe/London:20271021T183000
DTEND;TZID=Europe/London:20271021T193000
DTSTAMP:20260422T170548
CREATED:20260121T145436Z
LAST-MODIFIED:20260127T112408Z
UID:10000096-1824143400-1824147000@boureki.com
SUMMARY:Fitness Session with Claire Campbell
DESCRIPTION:This class runs every Thursday
URL:https://boureki.com/event/fitness-session-with-claire-campbell/2027-10-21/
LOCATION:UKTS Hybrid Event\, UKTS Office\, N14 6PH\, United Kingdom
ORGANIZER;CN="UK Thalassaemia Society":MAILTO:office@ukts.org
END:VEVENT
BEGIN:VEVENT
DTSTART;TZID=Europe/London:20271028T183000
DTEND;TZID=Europe/London:20271028T193000
DTSTAMP:20260422T170548
CREATED:20260121T145436Z
LAST-MODIFIED:20260127T112408Z
UID:10000097-1824748200-1824751800@boureki.com
SUMMARY:Fitness Session with Claire Campbell
DESCRIPTION:This class runs every Thursday
URL:https://boureki.com/event/fitness-session-with-claire-campbell/2027-10-28/
LOCATION:UKTS Hybrid Event\, UKTS Office\, N14 6PH\, United Kingdom
ORGANIZER;CN="UK Thalassaemia Society":MAILTO:office@ukts.org
END:VEVENT
END:VCALENDAR