BEGIN:VCALENDAR
VERSION:2.0
PRODID:-//UKTS Boureki - ECPv6.15.20//NONSGML v1.0//EN
CALSCALE:GREGORIAN
METHOD:PUBLISH
X-ORIGINAL-URL:https://boureki.com
X-WR-CALDESC:Events for UKTS Boureki
REFRESH-INTERVAL;VALUE=DURATION:PT1H
X-Robots-Tag:noindex
X-PUBLISHED-TTL:PT1H
BEGIN:VTIMEZONE
TZID:Europe/London
BEGIN:DAYLIGHT
TZOFFSETFROM:+0000
TZOFFSETTO:+0100
TZNAME:BST
DTSTART:20270328T010000
END:DAYLIGHT
BEGIN:STANDARD
TZOFFSETFROM:+0100
TZOFFSETTO:+0000
TZNAME:GMT
DTSTART:20271031T010000
END:STANDARD
BEGIN:DAYLIGHT
TZOFFSETFROM:+0000
TZOFFSETTO:+0100
TZNAME:BST
DTSTART:20280326T010000
END:DAYLIGHT
BEGIN:STANDARD
TZOFFSETFROM:+0100
TZOFFSETTO:+0000
TZNAME:GMT
DTSTART:20281029T010000
END:STANDARD
BEGIN:DAYLIGHT
TZOFFSETFROM:+0000
TZOFFSETTO:+0100
TZNAME:BST
DTSTART:20290325T010000
END:DAYLIGHT
BEGIN:STANDARD
TZOFFSETFROM:+0100
TZOFFSETTO:+0000
TZNAME:GMT
DTSTART:20291028T010000
END:STANDARD
END:VTIMEZONE
BEGIN:VEVENT
DTSTART;TZID=Europe/London:20281005T183000
DTEND;TZID=Europe/London:20281005T193000
DTSTAMP:20260423T134657
CREATED:20260121T145436Z
LAST-MODIFIED:20260127T112408Z
UID:10000146-1854383400-1854387000@boureki.com
SUMMARY:Fitness Session with Claire Campbell
DESCRIPTION:This class runs every Thursday
URL:https://boureki.com/event/fitness-session-with-claire-campbell/2028-10-05/
LOCATION:UKTS Hybrid Event\, UKTS Office\, N14 6PH\, United Kingdom
ORGANIZER;CN="UK Thalassaemia Society":MAILTO:office@ukts.org
END:VEVENT
BEGIN:VEVENT
DTSTART;TZID=Europe/London:20281012T183000
DTEND;TZID=Europe/London:20281012T193000
DTSTAMP:20260423T134657
CREATED:20260121T145436Z
LAST-MODIFIED:20260127T112408Z
UID:10000147-1854988200-1854991800@boureki.com
SUMMARY:Fitness Session with Claire Campbell
DESCRIPTION:This class runs every Thursday
URL:https://boureki.com/event/fitness-session-with-claire-campbell/2028-10-12/
LOCATION:UKTS Hybrid Event\, UKTS Office\, N14 6PH\, United Kingdom
ORGANIZER;CN="UK Thalassaemia Society":MAILTO:office@ukts.org
END:VEVENT
BEGIN:VEVENT
DTSTART;TZID=Europe/London:20281019T183000
DTEND;TZID=Europe/London:20281019T193000
DTSTAMP:20260423T134657
CREATED:20260121T145436Z
LAST-MODIFIED:20260127T112408Z
UID:10000148-1855593000-1855596600@boureki.com
SUMMARY:Fitness Session with Claire Campbell
DESCRIPTION:This class runs every Thursday
URL:https://boureki.com/event/fitness-session-with-claire-campbell/2028-10-19/
LOCATION:UKTS Hybrid Event\, UKTS Office\, N14 6PH\, United Kingdom
ORGANIZER;CN="UK Thalassaemia Society":MAILTO:office@ukts.org
END:VEVENT
BEGIN:VEVENT
DTSTART;TZID=Europe/London:20281026T183000
DTEND;TZID=Europe/London:20281026T193000
DTSTAMP:20260423T134657
CREATED:20260121T145436Z
LAST-MODIFIED:20260127T112408Z
UID:10000149-1856197800-1856201400@boureki.com
SUMMARY:Fitness Session with Claire Campbell
DESCRIPTION:This class runs every Thursday
URL:https://boureki.com/event/fitness-session-with-claire-campbell/2028-10-26/
LOCATION:UKTS Hybrid Event\, UKTS Office\, N14 6PH\, United Kingdom
ORGANIZER;CN="UK Thalassaemia Society":MAILTO:office@ukts.org
END:VEVENT
END:VCALENDAR