BEGIN:VCALENDAR
VERSION:2.0
PRODID:-//UKTS Boureki - ECPv6.15.20//NONSGML v1.0//EN
CALSCALE:GREGORIAN
METHOD:PUBLISH
X-ORIGINAL-URL:https://boureki.com
X-WR-CALDESC:Events for UKTS Boureki
REFRESH-INTERVAL;VALUE=DURATION:PT1H
X-Robots-Tag:noindex
X-PUBLISHED-TTL:PT1H
BEGIN:VTIMEZONE
TZID:Europe/London
BEGIN:DAYLIGHT
TZOFFSETFROM:+0000
TZOFFSETTO:+0100
TZNAME:BST
DTSTART:20280326T010000
END:DAYLIGHT
BEGIN:STANDARD
TZOFFSETFROM:+0100
TZOFFSETTO:+0000
TZNAME:GMT
DTSTART:20281029T010000
END:STANDARD
BEGIN:DAYLIGHT
TZOFFSETFROM:+0000
TZOFFSETTO:+0100
TZNAME:BST
DTSTART:20290325T010000
END:DAYLIGHT
BEGIN:STANDARD
TZOFFSETFROM:+0100
TZOFFSETTO:+0000
TZNAME:GMT
DTSTART:20291028T010000
END:STANDARD
BEGIN:DAYLIGHT
TZOFFSETFROM:+0000
TZOFFSETTO:+0100
TZNAME:BST
DTSTART:20300331T010000
END:DAYLIGHT
BEGIN:STANDARD
TZOFFSETFROM:+0100
TZOFFSETTO:+0000
TZNAME:GMT
DTSTART:20301027T010000
END:STANDARD
END:VTIMEZONE
BEGIN:VEVENT
DTSTART;TZID=Europe/London:20290405T183000
DTEND;TZID=Europe/London:20290405T193000
DTSTAMP:20260424T000631
CREATED:20260121T145436Z
LAST-MODIFIED:20260127T112408Z
UID:10000172-1870108200-1870111800@boureki.com
SUMMARY:Fitness Session with Claire Campbell
DESCRIPTION:This class runs every Thursday
URL:https://boureki.com/event/fitness-session-with-claire-campbell/2029-04-05/
LOCATION:UKTS Hybrid Event\, UKTS Office\, N14 6PH\, United Kingdom
ORGANIZER;CN="UK Thalassaemia Society":MAILTO:office@ukts.org
END:VEVENT
BEGIN:VEVENT
DTSTART;TZID=Europe/London:20290412T183000
DTEND;TZID=Europe/London:20290412T193000
DTSTAMP:20260424T000631
CREATED:20260121T145436Z
LAST-MODIFIED:20260127T112408Z
UID:10000173-1870713000-1870716600@boureki.com
SUMMARY:Fitness Session with Claire Campbell
DESCRIPTION:This class runs every Thursday
URL:https://boureki.com/event/fitness-session-with-claire-campbell/2029-04-12/
LOCATION:UKTS Hybrid Event\, UKTS Office\, N14 6PH\, United Kingdom
ORGANIZER;CN="UK Thalassaemia Society":MAILTO:office@ukts.org
END:VEVENT
BEGIN:VEVENT
DTSTART;TZID=Europe/London:20290419T183000
DTEND;TZID=Europe/London:20290419T193000
DTSTAMP:20260424T000631
CREATED:20260121T145436Z
LAST-MODIFIED:20260127T112408Z
UID:10000174-1871317800-1871321400@boureki.com
SUMMARY:Fitness Session with Claire Campbell
DESCRIPTION:This class runs every Thursday
URL:https://boureki.com/event/fitness-session-with-claire-campbell/2029-04-19/
LOCATION:UKTS Hybrid Event\, UKTS Office\, N14 6PH\, United Kingdom
ORGANIZER;CN="UK Thalassaemia Society":MAILTO:office@ukts.org
END:VEVENT
BEGIN:VEVENT
DTSTART;TZID=Europe/London:20290426T183000
DTEND;TZID=Europe/London:20290426T193000
DTSTAMP:20260424T000631
CREATED:20260121T145436Z
LAST-MODIFIED:20260127T112408Z
UID:10000175-1871922600-1871926200@boureki.com
SUMMARY:Fitness Session with Claire Campbell
DESCRIPTION:This class runs every Thursday
URL:https://boureki.com/event/fitness-session-with-claire-campbell/2029-04-26/
LOCATION:UKTS Hybrid Event\, UKTS Office\, N14 6PH\, United Kingdom
ORGANIZER;CN="UK Thalassaemia Society":MAILTO:office@ukts.org
END:VEVENT
END:VCALENDAR