BEGIN:VCALENDAR
VERSION:2.0
PRODID:-//UKTS Boureki - ECPv6.15.20//NONSGML v1.0//EN
CALSCALE:GREGORIAN
METHOD:PUBLISH
X-ORIGINAL-URL:https://boureki.com
X-WR-CALDESC:Events for UKTS Boureki
REFRESH-INTERVAL;VALUE=DURATION:PT1H
X-Robots-Tag:noindex
X-PUBLISHED-TTL:PT1H
BEGIN:VTIMEZONE
TZID:Europe/London
BEGIN:DAYLIGHT
TZOFFSETFROM:+0000
TZOFFSETTO:+0100
TZNAME:BST
DTSTART:20290325T010000
END:DAYLIGHT
BEGIN:STANDARD
TZOFFSETFROM:+0100
TZOFFSETTO:+0000
TZNAME:GMT
DTSTART:20291028T010000
END:STANDARD
BEGIN:DAYLIGHT
TZOFFSETFROM:+0000
TZOFFSETTO:+0100
TZNAME:BST
DTSTART:20300331T010000
END:DAYLIGHT
BEGIN:STANDARD
TZOFFSETFROM:+0100
TZOFFSETTO:+0000
TZNAME:GMT
DTSTART:20301027T010000
END:STANDARD
BEGIN:DAYLIGHT
TZOFFSETFROM:+0000
TZOFFSETTO:+0100
TZNAME:BST
DTSTART:20310330T010000
END:DAYLIGHT
BEGIN:STANDARD
TZOFFSETFROM:+0100
TZOFFSETTO:+0000
TZNAME:GMT
DTSTART:20311026T010000
END:STANDARD
END:VTIMEZONE
BEGIN:VEVENT
DTSTART;TZID=Europe/London:20300103T183000
DTEND;TZID=Europe/London:20300103T193000
DTSTAMP:20260424T144442
CREATED:20260121T145436Z
LAST-MODIFIED:20260127T112408Z
UID:10000211-1893695400-1893699000@boureki.com
SUMMARY:Fitness Session with Claire Campbell
DESCRIPTION:This class runs every Thursday
URL:https://boureki.com/event/fitness-session-with-claire-campbell/2030-01-03/
LOCATION:UKTS Hybrid Event\, UKTS Office\, N14 6PH\, United Kingdom
ORGANIZER;CN="UK Thalassaemia Society":MAILTO:office@ukts.org
END:VEVENT
BEGIN:VEVENT
DTSTART;TZID=Europe/London:20300110T183000
DTEND;TZID=Europe/London:20300110T193000
DTSTAMP:20260424T144442
CREATED:20260121T145436Z
LAST-MODIFIED:20260127T112408Z
UID:10000212-1894300200-1894303800@boureki.com
SUMMARY:Fitness Session with Claire Campbell
DESCRIPTION:This class runs every Thursday
URL:https://boureki.com/event/fitness-session-with-claire-campbell/2030-01-10/
LOCATION:UKTS Hybrid Event\, UKTS Office\, N14 6PH\, United Kingdom
ORGANIZER;CN="UK Thalassaemia Society":MAILTO:office@ukts.org
END:VEVENT
BEGIN:VEVENT
DTSTART;TZID=Europe/London:20300117T183000
DTEND;TZID=Europe/London:20300117T193000
DTSTAMP:20260424T144442
CREATED:20260121T145436Z
LAST-MODIFIED:20260127T112408Z
UID:10000213-1894905000-1894908600@boureki.com
SUMMARY:Fitness Session with Claire Campbell
DESCRIPTION:This class runs every Thursday
URL:https://boureki.com/event/fitness-session-with-claire-campbell/2030-01-17/
LOCATION:UKTS Hybrid Event\, UKTS Office\, N14 6PH\, United Kingdom
ORGANIZER;CN="UK Thalassaemia Society":MAILTO:office@ukts.org
END:VEVENT
BEGIN:VEVENT
DTSTART;TZID=Europe/London:20300124T183000
DTEND;TZID=Europe/London:20300124T193000
DTSTAMP:20260424T144442
CREATED:20260121T145436Z
LAST-MODIFIED:20260127T112408Z
UID:10000214-1895509800-1895513400@boureki.com
SUMMARY:Fitness Session with Claire Campbell
DESCRIPTION:This class runs every Thursday
URL:https://boureki.com/event/fitness-session-with-claire-campbell/2030-01-24/
LOCATION:UKTS Hybrid Event\, UKTS Office\, N14 6PH\, United Kingdom
ORGANIZER;CN="UK Thalassaemia Society":MAILTO:office@ukts.org
END:VEVENT
BEGIN:VEVENT
DTSTART;TZID=Europe/London:20300131T183000
DTEND;TZID=Europe/London:20300131T193000
DTSTAMP:20260424T144442
CREATED:20260121T145436Z
LAST-MODIFIED:20260127T112408Z
UID:10000215-1896114600-1896118200@boureki.com
SUMMARY:Fitness Session with Claire Campbell
DESCRIPTION:This class runs every Thursday
URL:https://boureki.com/event/fitness-session-with-claire-campbell/2030-01-31/
LOCATION:UKTS Hybrid Event\, UKTS Office\, N14 6PH\, United Kingdom
ORGANIZER;CN="UK Thalassaemia Society":MAILTO:office@ukts.org
END:VEVENT
END:VCALENDAR