BEGIN:VCALENDAR
VERSION:2.0
PRODID:-//UKTS Boureki - ECPv6.15.20//NONSGML v1.0//EN
CALSCALE:GREGORIAN
METHOD:PUBLISH
X-ORIGINAL-URL:https://boureki.com
X-WR-CALDESC:Events for UKTS Boureki
REFRESH-INTERVAL;VALUE=DURATION:PT1H
X-Robots-Tag:noindex
X-PUBLISHED-TTL:PT1H
BEGIN:VTIMEZONE
TZID:Europe/London
BEGIN:DAYLIGHT
TZOFFSETFROM:+0000
TZOFFSETTO:+0100
TZNAME:BST
DTSTART:20260329T010000
END:DAYLIGHT
BEGIN:STANDARD
TZOFFSETFROM:+0100
TZOFFSETTO:+0000
TZNAME:GMT
DTSTART:20261025T010000
END:STANDARD
BEGIN:DAYLIGHT
TZOFFSETFROM:+0000
TZOFFSETTO:+0100
TZNAME:BST
DTSTART:20270328T010000
END:DAYLIGHT
BEGIN:STANDARD
TZOFFSETFROM:+0100
TZOFFSETTO:+0000
TZNAME:GMT
DTSTART:20271031T010000
END:STANDARD
BEGIN:DAYLIGHT
TZOFFSETFROM:+0000
TZOFFSETTO:+0100
TZNAME:BST
DTSTART:20280326T010000
END:DAYLIGHT
BEGIN:STANDARD
TZOFFSETFROM:+0100
TZOFFSETTO:+0000
TZNAME:GMT
DTSTART:20281029T010000
END:STANDARD
END:VTIMEZONE
BEGIN:VEVENT
DTSTART;TZID=Europe/London:20270610T183000
DTEND;TZID=Europe/London:20270610T193000
DTSTAMP:20260421T170401
CREATED:20260121T145436Z
LAST-MODIFIED:20260127T112408Z
UID:10000077-1812652200-1812655800@boureki.com
SUMMARY:Fitness Session with Claire Campbell
DESCRIPTION:This class runs every Thursday
URL:https://boureki.com/event/fitness-session-with-claire-campbell/2027-06-10/
LOCATION:UKTS Hybrid Event\, UKTS Office\, N14 6PH\, United Kingdom
ORGANIZER;CN="UK Thalassaemia Society":MAILTO:office@ukts.org
END:VEVENT
BEGIN:VEVENT
DTSTART;TZID=Europe/London:20270617T183000
DTEND;TZID=Europe/London:20270617T193000
DTSTAMP:20260421T170401
CREATED:20260121T145436Z
LAST-MODIFIED:20260127T112408Z
UID:10000078-1813257000-1813260600@boureki.com
SUMMARY:Fitness Session with Claire Campbell
DESCRIPTION:This class runs every Thursday
URL:https://boureki.com/event/fitness-session-with-claire-campbell/2027-06-17/
LOCATION:UKTS Hybrid Event\, UKTS Office\, N14 6PH\, United Kingdom
ORGANIZER;CN="UK Thalassaemia Society":MAILTO:office@ukts.org
END:VEVENT
BEGIN:VEVENT
DTSTART;TZID=Europe/London:20270624T183000
DTEND;TZID=Europe/London:20270624T193000
DTSTAMP:20260421T170401
CREATED:20260121T145436Z
LAST-MODIFIED:20260127T112408Z
UID:10000079-1813861800-1813865400@boureki.com
SUMMARY:Fitness Session with Claire Campbell
DESCRIPTION:This class runs every Thursday
URL:https://boureki.com/event/fitness-session-with-claire-campbell/2027-06-24/
LOCATION:UKTS Hybrid Event\, UKTS Office\, N14 6PH\, United Kingdom
ORGANIZER;CN="UK Thalassaemia Society":MAILTO:office@ukts.org
END:VEVENT
BEGIN:VEVENT
DTSTART;TZID=Europe/London:20270701T183000
DTEND;TZID=Europe/London:20270701T193000
DTSTAMP:20260421T170401
CREATED:20260121T145436Z
LAST-MODIFIED:20260127T112408Z
UID:10000080-1814466600-1814470200@boureki.com
SUMMARY:Fitness Session with Claire Campbell
DESCRIPTION:This class runs every Thursday
URL:https://boureki.com/event/fitness-session-with-claire-campbell/2027-07-01/
LOCATION:UKTS Hybrid Event\, UKTS Office\, N14 6PH\, United Kingdom
ORGANIZER;CN="UK Thalassaemia Society":MAILTO:office@ukts.org
END:VEVENT
BEGIN:VEVENT
DTSTART;TZID=Europe/London:20270708T183000
DTEND;TZID=Europe/London:20270708T193000
DTSTAMP:20260421T170401
CREATED:20260121T145436Z
LAST-MODIFIED:20260127T112408Z
UID:10000081-1815071400-1815075000@boureki.com
SUMMARY:Fitness Session with Claire Campbell
DESCRIPTION:This class runs every Thursday
URL:https://boureki.com/event/fitness-session-with-claire-campbell/2027-07-08/
LOCATION:UKTS Hybrid Event\, UKTS Office\, N14 6PH\, United Kingdom
ORGANIZER;CN="UK Thalassaemia Society":MAILTO:office@ukts.org
END:VEVENT
BEGIN:VEVENT
DTSTART;TZID=Europe/London:20270715T183000
DTEND;TZID=Europe/London:20270715T193000
DTSTAMP:20260421T170401
CREATED:20260121T145436Z
LAST-MODIFIED:20260127T112408Z
UID:10000082-1815676200-1815679800@boureki.com
SUMMARY:Fitness Session with Claire Campbell
DESCRIPTION:This class runs every Thursday
URL:https://boureki.com/event/fitness-session-with-claire-campbell/2027-07-15/
LOCATION:UKTS Hybrid Event\, UKTS Office\, N14 6PH\, United Kingdom
ORGANIZER;CN="UK Thalassaemia Society":MAILTO:office@ukts.org
END:VEVENT
BEGIN:VEVENT
DTSTART;TZID=Europe/London:20270722T183000
DTEND;TZID=Europe/London:20270722T193000
DTSTAMP:20260421T170401
CREATED:20260121T145436Z
LAST-MODIFIED:20260127T112408Z
UID:10000083-1816281000-1816284600@boureki.com
SUMMARY:Fitness Session with Claire Campbell
DESCRIPTION:This class runs every Thursday
URL:https://boureki.com/event/fitness-session-with-claire-campbell/2027-07-22/
LOCATION:UKTS Hybrid Event\, UKTS Office\, N14 6PH\, United Kingdom
ORGANIZER;CN="UK Thalassaemia Society":MAILTO:office@ukts.org
END:VEVENT
BEGIN:VEVENT
DTSTART;TZID=Europe/London:20270729T183000
DTEND;TZID=Europe/London:20270729T193000
DTSTAMP:20260421T170401
CREATED:20260121T145436Z
LAST-MODIFIED:20260127T112408Z
UID:10000084-1816885800-1816889400@boureki.com
SUMMARY:Fitness Session with Claire Campbell
DESCRIPTION:This class runs every Thursday
URL:https://boureki.com/event/fitness-session-with-claire-campbell/2027-07-29/
LOCATION:UKTS Hybrid Event\, UKTS Office\, N14 6PH\, United Kingdom
ORGANIZER;CN="UK Thalassaemia Society":MAILTO:office@ukts.org
END:VEVENT
BEGIN:VEVENT
DTSTART;TZID=Europe/London:20270805T183000
DTEND;TZID=Europe/London:20270805T193000
DTSTAMP:20260421T170401
CREATED:20260121T145436Z
LAST-MODIFIED:20260127T112408Z
UID:10000085-1817490600-1817494200@boureki.com
SUMMARY:Fitness Session with Claire Campbell
DESCRIPTION:This class runs every Thursday
URL:https://boureki.com/event/fitness-session-with-claire-campbell/2027-08-05/
LOCATION:UKTS Hybrid Event\, UKTS Office\, N14 6PH\, United Kingdom
ORGANIZER;CN="UK Thalassaemia Society":MAILTO:office@ukts.org
END:VEVENT
BEGIN:VEVENT
DTSTART;TZID=Europe/London:20270812T183000
DTEND;TZID=Europe/London:20270812T193000
DTSTAMP:20260421T170401
CREATED:20260121T145436Z
LAST-MODIFIED:20260127T112408Z
UID:10000086-1818095400-1818099000@boureki.com
SUMMARY:Fitness Session with Claire Campbell
DESCRIPTION:This class runs every Thursday
URL:https://boureki.com/event/fitness-session-with-claire-campbell/2027-08-12/
LOCATION:UKTS Hybrid Event\, UKTS Office\, N14 6PH\, United Kingdom
ORGANIZER;CN="UK Thalassaemia Society":MAILTO:office@ukts.org
END:VEVENT
BEGIN:VEVENT
DTSTART;TZID=Europe/London:20270819T183000
DTEND;TZID=Europe/London:20270819T193000
DTSTAMP:20260421T170401
CREATED:20260121T145436Z
LAST-MODIFIED:20260127T112408Z
UID:10000087-1818700200-1818703800@boureki.com
SUMMARY:Fitness Session with Claire Campbell
DESCRIPTION:This class runs every Thursday
URL:https://boureki.com/event/fitness-session-with-claire-campbell/2027-08-19/
LOCATION:UKTS Hybrid Event\, UKTS Office\, N14 6PH\, United Kingdom
ORGANIZER;CN="UK Thalassaemia Society":MAILTO:office@ukts.org
END:VEVENT
BEGIN:VEVENT
DTSTART;TZID=Europe/London:20270826T183000
DTEND;TZID=Europe/London:20270826T193000
DTSTAMP:20260421T170401
CREATED:20260121T145436Z
LAST-MODIFIED:20260127T112408Z
UID:10000088-1819305000-1819308600@boureki.com
SUMMARY:Fitness Session with Claire Campbell
DESCRIPTION:This class runs every Thursday
URL:https://boureki.com/event/fitness-session-with-claire-campbell/2027-08-26/
LOCATION:UKTS Hybrid Event\, UKTS Office\, N14 6PH\, United Kingdom
ORGANIZER;CN="UK Thalassaemia Society":MAILTO:office@ukts.org
END:VEVENT
BEGIN:VEVENT
DTSTART;TZID=Europe/London:20270902T183000
DTEND;TZID=Europe/London:20270902T193000
DTSTAMP:20260421T170401
CREATED:20260121T145436Z
LAST-MODIFIED:20260127T112408Z
UID:10000089-1819909800-1819913400@boureki.com
SUMMARY:Fitness Session with Claire Campbell
DESCRIPTION:This class runs every Thursday
URL:https://boureki.com/event/fitness-session-with-claire-campbell/2027-09-02/
LOCATION:UKTS Hybrid Event\, UKTS Office\, N14 6PH\, United Kingdom
ORGANIZER;CN="UK Thalassaemia Society":MAILTO:office@ukts.org
END:VEVENT
BEGIN:VEVENT
DTSTART;TZID=Europe/London:20270909T183000
DTEND;TZID=Europe/London:20270909T193000
DTSTAMP:20260421T170401
CREATED:20260121T145436Z
LAST-MODIFIED:20260127T112408Z
UID:10000090-1820514600-1820518200@boureki.com
SUMMARY:Fitness Session with Claire Campbell
DESCRIPTION:This class runs every Thursday
URL:https://boureki.com/event/fitness-session-with-claire-campbell/2027-09-09/
LOCATION:UKTS Hybrid Event\, UKTS Office\, N14 6PH\, United Kingdom
ORGANIZER;CN="UK Thalassaemia Society":MAILTO:office@ukts.org
END:VEVENT
BEGIN:VEVENT
DTSTART;TZID=Europe/London:20270916T183000
DTEND;TZID=Europe/London:20270916T193000
DTSTAMP:20260421T170401
CREATED:20260121T145436Z
LAST-MODIFIED:20260127T112408Z
UID:10000091-1821119400-1821123000@boureki.com
SUMMARY:Fitness Session with Claire Campbell
DESCRIPTION:This class runs every Thursday
URL:https://boureki.com/event/fitness-session-with-claire-campbell/2027-09-16/
LOCATION:UKTS Hybrid Event\, UKTS Office\, N14 6PH\, United Kingdom
ORGANIZER;CN="UK Thalassaemia Society":MAILTO:office@ukts.org
END:VEVENT
BEGIN:VEVENT
DTSTART;TZID=Europe/London:20270923T183000
DTEND;TZID=Europe/London:20270923T193000
DTSTAMP:20260421T170401
CREATED:20260121T145436Z
LAST-MODIFIED:20260127T112408Z
UID:10000092-1821724200-1821727800@boureki.com
SUMMARY:Fitness Session with Claire Campbell
DESCRIPTION:This class runs every Thursday
URL:https://boureki.com/event/fitness-session-with-claire-campbell/2027-09-23/
LOCATION:UKTS Hybrid Event\, UKTS Office\, N14 6PH\, United Kingdom
ORGANIZER;CN="UK Thalassaemia Society":MAILTO:office@ukts.org
END:VEVENT
BEGIN:VEVENT
DTSTART;TZID=Europe/London:20270930T183000
DTEND;TZID=Europe/London:20270930T193000
DTSTAMP:20260421T170401
CREATED:20260121T145436Z
LAST-MODIFIED:20260127T112408Z
UID:10000093-1822329000-1822332600@boureki.com
SUMMARY:Fitness Session with Claire Campbell
DESCRIPTION:This class runs every Thursday
URL:https://boureki.com/event/fitness-session-with-claire-campbell/2027-09-30/
LOCATION:UKTS Hybrid Event\, UKTS Office\, N14 6PH\, United Kingdom
ORGANIZER;CN="UK Thalassaemia Society":MAILTO:office@ukts.org
END:VEVENT
BEGIN:VEVENT
DTSTART;TZID=Europe/London:20271007T183000
DTEND;TZID=Europe/London:20271007T193000
DTSTAMP:20260421T170401
CREATED:20260121T145436Z
LAST-MODIFIED:20260127T112408Z
UID:10000094-1822933800-1822937400@boureki.com
SUMMARY:Fitness Session with Claire Campbell
DESCRIPTION:This class runs every Thursday
URL:https://boureki.com/event/fitness-session-with-claire-campbell/2027-10-07/
LOCATION:UKTS Hybrid Event\, UKTS Office\, N14 6PH\, United Kingdom
ORGANIZER;CN="UK Thalassaemia Society":MAILTO:office@ukts.org
END:VEVENT
BEGIN:VEVENT
DTSTART;TZID=Europe/London:20271014T183000
DTEND;TZID=Europe/London:20271014T193000
DTSTAMP:20260421T170401
CREATED:20260121T145436Z
LAST-MODIFIED:20260127T112408Z
UID:10000095-1823538600-1823542200@boureki.com
SUMMARY:Fitness Session with Claire Campbell
DESCRIPTION:This class runs every Thursday
URL:https://boureki.com/event/fitness-session-with-claire-campbell/2027-10-14/
LOCATION:UKTS Hybrid Event\, UKTS Office\, N14 6PH\, United Kingdom
ORGANIZER;CN="UK Thalassaemia Society":MAILTO:office@ukts.org
END:VEVENT
BEGIN:VEVENT
DTSTART;TZID=Europe/London:20271021T183000
DTEND;TZID=Europe/London:20271021T193000
DTSTAMP:20260421T170401
CREATED:20260121T145436Z
LAST-MODIFIED:20260127T112408Z
UID:10000096-1824143400-1824147000@boureki.com
SUMMARY:Fitness Session with Claire Campbell
DESCRIPTION:This class runs every Thursday
URL:https://boureki.com/event/fitness-session-with-claire-campbell/2027-10-21/
LOCATION:UKTS Hybrid Event\, UKTS Office\, N14 6PH\, United Kingdom
ORGANIZER;CN="UK Thalassaemia Society":MAILTO:office@ukts.org
END:VEVENT
BEGIN:VEVENT
DTSTART;TZID=Europe/London:20271028T183000
DTEND;TZID=Europe/London:20271028T193000
DTSTAMP:20260421T170401
CREATED:20260121T145436Z
LAST-MODIFIED:20260127T112408Z
UID:10000097-1824748200-1824751800@boureki.com
SUMMARY:Fitness Session with Claire Campbell
DESCRIPTION:This class runs every Thursday
URL:https://boureki.com/event/fitness-session-with-claire-campbell/2027-10-28/
LOCATION:UKTS Hybrid Event\, UKTS Office\, N14 6PH\, United Kingdom
ORGANIZER;CN="UK Thalassaemia Society":MAILTO:office@ukts.org
END:VEVENT
BEGIN:VEVENT
DTSTART;TZID=Europe/London:20271104T183000
DTEND;TZID=Europe/London:20271104T193000
DTSTAMP:20260421T170401
CREATED:20260121T145436Z
LAST-MODIFIED:20260127T112408Z
UID:10000098-1825353000-1825356600@boureki.com
SUMMARY:Fitness Session with Claire Campbell
DESCRIPTION:This class runs every Thursday
URL:https://boureki.com/event/fitness-session-with-claire-campbell/2027-11-04/
LOCATION:UKTS Hybrid Event\, UKTS Office\, N14 6PH\, United Kingdom
ORGANIZER;CN="UK Thalassaemia Society":MAILTO:office@ukts.org
END:VEVENT
BEGIN:VEVENT
DTSTART;TZID=Europe/London:20271111T183000
DTEND;TZID=Europe/London:20271111T193000
DTSTAMP:20260421T170401
CREATED:20260121T145436Z
LAST-MODIFIED:20260127T112408Z
UID:10000099-1825957800-1825961400@boureki.com
SUMMARY:Fitness Session with Claire Campbell
DESCRIPTION:This class runs every Thursday
URL:https://boureki.com/event/fitness-session-with-claire-campbell/2027-11-11/
LOCATION:UKTS Hybrid Event\, UKTS Office\, N14 6PH\, United Kingdom
ORGANIZER;CN="UK Thalassaemia Society":MAILTO:office@ukts.org
END:VEVENT
BEGIN:VEVENT
DTSTART;TZID=Europe/London:20271118T183000
DTEND;TZID=Europe/London:20271118T193000
DTSTAMP:20260421T170401
CREATED:20260121T145436Z
LAST-MODIFIED:20260127T112408Z
UID:10000100-1826562600-1826566200@boureki.com
SUMMARY:Fitness Session with Claire Campbell
DESCRIPTION:This class runs every Thursday
URL:https://boureki.com/event/fitness-session-with-claire-campbell/2027-11-18/
LOCATION:UKTS Hybrid Event\, UKTS Office\, N14 6PH\, United Kingdom
ORGANIZER;CN="UK Thalassaemia Society":MAILTO:office@ukts.org
END:VEVENT
BEGIN:VEVENT
DTSTART;TZID=Europe/London:20271125T183000
DTEND;TZID=Europe/London:20271125T193000
DTSTAMP:20260421T170401
CREATED:20260121T145436Z
LAST-MODIFIED:20260127T112408Z
UID:10000101-1827167400-1827171000@boureki.com
SUMMARY:Fitness Session with Claire Campbell
DESCRIPTION:This class runs every Thursday
URL:https://boureki.com/event/fitness-session-with-claire-campbell/2027-11-25/
LOCATION:UKTS Hybrid Event\, UKTS Office\, N14 6PH\, United Kingdom
ORGANIZER;CN="UK Thalassaemia Society":MAILTO:office@ukts.org
END:VEVENT
BEGIN:VEVENT
DTSTART;TZID=Europe/London:20271202T183000
DTEND;TZID=Europe/London:20271202T193000
DTSTAMP:20260421T170401
CREATED:20260121T145436Z
LAST-MODIFIED:20260127T112408Z
UID:10000102-1827772200-1827775800@boureki.com
SUMMARY:Fitness Session with Claire Campbell
DESCRIPTION:This class runs every Thursday
URL:https://boureki.com/event/fitness-session-with-claire-campbell/2027-12-02/
LOCATION:UKTS Hybrid Event\, UKTS Office\, N14 6PH\, United Kingdom
ORGANIZER;CN="UK Thalassaemia Society":MAILTO:office@ukts.org
END:VEVENT
BEGIN:VEVENT
DTSTART;TZID=Europe/London:20271209T183000
DTEND;TZID=Europe/London:20271209T193000
DTSTAMP:20260421T170401
CREATED:20260121T145436Z
LAST-MODIFIED:20260127T112408Z
UID:10000103-1828377000-1828380600@boureki.com
SUMMARY:Fitness Session with Claire Campbell
DESCRIPTION:This class runs every Thursday
URL:https://boureki.com/event/fitness-session-with-claire-campbell/2027-12-09/
LOCATION:UKTS Hybrid Event\, UKTS Office\, N14 6PH\, United Kingdom
ORGANIZER;CN="UK Thalassaemia Society":MAILTO:office@ukts.org
END:VEVENT
BEGIN:VEVENT
DTSTART;TZID=Europe/London:20271216T183000
DTEND;TZID=Europe/London:20271216T193000
DTSTAMP:20260421T170401
CREATED:20260121T145436Z
LAST-MODIFIED:20260127T112408Z
UID:10000104-1828981800-1828985400@boureki.com
SUMMARY:Fitness Session with Claire Campbell
DESCRIPTION:This class runs every Thursday
URL:https://boureki.com/event/fitness-session-with-claire-campbell/2027-12-16/
LOCATION:UKTS Hybrid Event\, UKTS Office\, N14 6PH\, United Kingdom
ORGANIZER;CN="UK Thalassaemia Society":MAILTO:office@ukts.org
END:VEVENT
BEGIN:VEVENT
DTSTART;TZID=Europe/London:20271223T183000
DTEND;TZID=Europe/London:20271223T193000
DTSTAMP:20260421T170401
CREATED:20260121T145436Z
LAST-MODIFIED:20260127T112408Z
UID:10000105-1829586600-1829590200@boureki.com
SUMMARY:Fitness Session with Claire Campbell
DESCRIPTION:This class runs every Thursday
URL:https://boureki.com/event/fitness-session-with-claire-campbell/2027-12-23/
LOCATION:UKTS Hybrid Event\, UKTS Office\, N14 6PH\, United Kingdom
ORGANIZER;CN="UK Thalassaemia Society":MAILTO:office@ukts.org
END:VEVENT
BEGIN:VEVENT
DTSTART;TZID=Europe/London:20271230T183000
DTEND;TZID=Europe/London:20271230T193000
DTSTAMP:20260421T170401
CREATED:20260121T145436Z
LAST-MODIFIED:20260127T112408Z
UID:10000106-1830191400-1830195000@boureki.com
SUMMARY:Fitness Session with Claire Campbell
DESCRIPTION:This class runs every Thursday
URL:https://boureki.com/event/fitness-session-with-claire-campbell/2027-12-30/
LOCATION:UKTS Hybrid Event\, UKTS Office\, N14 6PH\, United Kingdom
ORGANIZER;CN="UK Thalassaemia Society":MAILTO:office@ukts.org
END:VEVENT
END:VCALENDAR